BEGIN:VCALENDAR
VERSION:2.0
PRODID:-//One Family Fund - ECPv6.15.9//NONSGML v1.0//EN
CALSCALE:GREGORIAN
METHOD:PUBLISH
X-WR-CALNAME:One Family Fund
X-ORIGINAL-URL:https://onefamilyfund.ca
X-WR-CALDESC:Events for One Family Fund
REFRESH-INTERVAL;VALUE=DURATION:PT1H
X-Robots-Tag:noindex
X-PUBLISHED-TTL:PT1H
BEGIN:VTIMEZONE
TZID:America/Toronto
BEGIN:DAYLIGHT
TZOFFSETFROM:-0500
TZOFFSETTO:-0400
TZNAME:EDT
DTSTART:20230312T070000
END:DAYLIGHT
BEGIN:STANDARD
TZOFFSETFROM:-0400
TZOFFSETTO:-0500
TZNAME:EST
DTSTART:20231105T060000
END:STANDARD
BEGIN:DAYLIGHT
TZOFFSETFROM:-0500
TZOFFSETTO:-0400
TZNAME:EDT
DTSTART:20240310T070000
END:DAYLIGHT
BEGIN:STANDARD
TZOFFSETFROM:-0400
TZOFFSETTO:-0500
TZNAME:EST
DTSTART:20241103T060000
END:STANDARD
BEGIN:DAYLIGHT
TZOFFSETFROM:-0500
TZOFFSETTO:-0400
TZNAME:EDT
DTSTART:20250309T070000
END:DAYLIGHT
BEGIN:STANDARD
TZOFFSETFROM:-0400
TZOFFSETTO:-0500
TZNAME:EST
DTSTART:20251102T060000
END:STANDARD
END:VTIMEZONE
BEGIN:VEVENT
DTSTART;VALUE=DATE:20240619
DTEND;VALUE=DATE:20240620
DTSTAMP:20260422T005143
CREATED:20240523T125058Z
LAST-MODIFIED:20240523T125232Z
UID:14316-1718755200-1718841599@onefamilyfund.ca
SUMMARY:Grand Slam Pro Am 2024 Charity Tennis Tournament in Toronto
DESCRIPTION:Grand Slam Pro Am 2024 Charity Tennis Tournament in Toronto\nJune 19 & 22\, 2024The Grand Slam Pro Am is unique among charitable tennis tournaments in Toronto\, designed to respond to current needs in the community. We look at local\, national and international organizations that can benefit from our fundraising efforts. Each year\, we choose worthy causes that merit our attention and support. Your generous contribution helps people here and abroad. \nIn 2024\, the proceeds will go towards alleviating suffering and improving the lives of Israeli victims of terror who have endured the unthinkable. OneFamily is here to stand with the bereaved\, wounded\, and displaced\, to be a source of hope during their darkest days. Together\, we can make a difference and bring a glimmer of light to those in need. \nRegister For EventRegister For Event
URL:https://onefamilyfund.ca/event/grand-slam-pro-am-2024-charity-tennis-tournament-in-toronto/
LOCATION:Sobey’s Stadium\, 1 Shoreham Drive\, North York\, Ontario\, Canada
ATTACH;FMTTYPE=image/jpeg:https://onefamilyfund.ca/wp-content/uploads/2024/05/GSPA-Logo.jpg
ORGANIZER;CN="Grand Slam Pro Am":MAILTO:lalano@acp99.com
END:VEVENT
BEGIN:VEVENT
DTSTART;VALUE=DATE:20240622
DTEND;VALUE=DATE:20240623
DTSTAMP:20260422T005143
CREATED:20240523T125502Z
LAST-MODIFIED:20240523T125502Z
UID:14329-1719014400-1719100799@onefamilyfund.ca
SUMMARY:Grand Slam Pro Am 2024 Charity Tennis Tournament in Toronto
DESCRIPTION:Grand Slam Pro Am 2024 Charity Tennis Tournament in Toronto\nJune 19 & 22\, 2024The Grand Slam Pro Am is unique among charitable tennis tournaments in Toronto\, designed to respond to current needs in the community. We look at local\, national and international organizations that can benefit from our fundraising efforts. Each year\, we choose worthy causes that merit our attention and support. Your generous contribution helps people here and abroad. \nIn 2024\, the proceeds will go towards alleviating suffering and improving the lives of Israeli victims of terror who have endured the unthinkable. OneFamily is here to stand with the bereaved\, wounded\, and displaced\, to be a source of hope during their darkest days. Together\, we can make a difference and bring a glimmer of light to those in need. \nRegister For EventRegister For Event
URL:https://onefamilyfund.ca/event/grand-slam-pro-am-2024-charity-tennis-tournament-in-toronto-2/
LOCATION:Sobey’s Stadium\, 1 Shoreham Drive\, North York\, Ontario\, Canada
ATTACH;FMTTYPE=image/jpeg:https://onefamilyfund.ca/wp-content/uploads/2024/05/GSPA-Logo.jpg
ORGANIZER;CN="Grand Slam Pro Am":MAILTO:lalano@acp99.com
END:VEVENT
END:VCALENDAR