BEGIN:VCALENDAR
VERSION:2.0
PRODID:-//One Family Fund - ECPv6.15.9//NONSGML v1.0//EN
CALSCALE:GREGORIAN
METHOD:PUBLISH
X-WR-CALNAME:One Family Fund
X-ORIGINAL-URL:https://onefamilyfund.ca
X-WR-CALDESC:Events for One Family Fund
REFRESH-INTERVAL;VALUE=DURATION:PT1H
X-Robots-Tag:noindex
X-PUBLISHED-TTL:PT1H
BEGIN:VTIMEZONE
TZID:America/Toronto
BEGIN:DAYLIGHT
TZOFFSETFROM:-0500
TZOFFSETTO:-0400
TZNAME:EDT
DTSTART:20230312T070000
END:DAYLIGHT
BEGIN:STANDARD
TZOFFSETFROM:-0400
TZOFFSETTO:-0500
TZNAME:EST
DTSTART:20231105T060000
END:STANDARD
BEGIN:DAYLIGHT
TZOFFSETFROM:-0500
TZOFFSETTO:-0400
TZNAME:EDT
DTSTART:20240310T070000
END:DAYLIGHT
BEGIN:STANDARD
TZOFFSETFROM:-0400
TZOFFSETTO:-0500
TZNAME:EST
DTSTART:20241103T060000
END:STANDARD
BEGIN:DAYLIGHT
TZOFFSETFROM:-0500
TZOFFSETTO:-0400
TZNAME:EDT
DTSTART:20250309T070000
END:DAYLIGHT
BEGIN:STANDARD
TZOFFSETFROM:-0400
TZOFFSETTO:-0500
TZNAME:EST
DTSTART:20251102T060000
END:STANDARD
END:VTIMEZONE
BEGIN:VEVENT
DTSTART;TZID=America/Toronto:20240514T183000
DTEND;TZID=America/Toronto:20240514T183000
DTSTAMP:20260422T022739
CREATED:20240410T190904Z
LAST-MODIFIED:20240410T191543Z
UID:14270-1715711400-1715711400@onefamilyfund.ca
SUMMARY:Jewish Voices In Music Charitable Concert
DESCRIPTION:Jewish Voices In Music Charitable Concert\nMay 14\, 2024 @ 6:30pm Step into a world of classical elegance and cultural celebration at our event—a captivating concert featuring music exclusively composed by Jewish maestros. Join us after the final crescendo for a post-concert reception. Mingle with performers and speakers\, share thoughts\, and enjoy light refreshments in the afterglow of an enchanting evening. Experience the magic of classical music while standing in solidarity with Israel and Jews worldwide. Join us for a night of harmony\, passion\, and connection. \nFor accessible seating please call (905) 303-2000 ext. 4 \nRegister For EventRegister For Event
URL:https://onefamilyfund.ca/event/jewish-voices-in-music-charitable-concert/
LOCATION:City Playhouse Theatre\, 1000 New Westminster Dr #102\,\, Thornhill\, Ontario\, L4J 8G3\, Canada
ATTACH;FMTTYPE=image/jpeg:https://onefamilyfund.ca/wp-content/uploads/2024/04/JewishVoices-event-im.jpg
ORGANIZER;CN="Jewish Voices In Music":MAILTO:eyal@Jewishvoicesinmusic.com
END:VEVENT
END:VCALENDAR