BEGIN:VCALENDAR
VERSION:2.0
PRODID:-//One Family Fund - ECPv6.15.9//NONSGML v1.0//EN
CALSCALE:GREGORIAN
METHOD:PUBLISH
X-WR-CALNAME:One Family Fund
X-ORIGINAL-URL:https://onefamilyfund.ca
X-WR-CALDESC:Events for One Family Fund
REFRESH-INTERVAL;VALUE=DURATION:PT1H
X-Robots-Tag:noindex
X-PUBLISHED-TTL:PT1H
BEGIN:VTIMEZONE
TZID:America/Toronto
BEGIN:DAYLIGHT
TZOFFSETFROM:-0500
TZOFFSETTO:-0400
TZNAME:EDT
DTSTART:20230312T070000
END:DAYLIGHT
BEGIN:STANDARD
TZOFFSETFROM:-0400
TZOFFSETTO:-0500
TZNAME:EST
DTSTART:20231105T060000
END:STANDARD
BEGIN:DAYLIGHT
TZOFFSETFROM:-0500
TZOFFSETTO:-0400
TZNAME:EDT
DTSTART:20240310T070000
END:DAYLIGHT
BEGIN:STANDARD
TZOFFSETFROM:-0400
TZOFFSETTO:-0500
TZNAME:EST
DTSTART:20241103T060000
END:STANDARD
BEGIN:DAYLIGHT
TZOFFSETFROM:-0500
TZOFFSETTO:-0400
TZNAME:EDT
DTSTART:20250309T070000
END:DAYLIGHT
BEGIN:STANDARD
TZOFFSETFROM:-0400
TZOFFSETTO:-0500
TZNAME:EST
DTSTART:20251102T060000
END:STANDARD
END:VTIMEZONE
BEGIN:VEVENT
DTSTART;TZID=America/Toronto:20240228T190000
DTEND;TZID=America/Toronto:20240228T210000
DTSTAMP:20260424T042442
CREATED:20240123T185605Z
LAST-MODIFIED:20240123T190043Z
UID:14132-1709146800-1709154000@onefamilyfund.ca
SUMMARY:TAFSIK Organization Presents Douglas Murray
DESCRIPTION:TAFSIK Organization Presents Douglas Murray\nFebruary 28\, 2024 @ 7:00pmJoin us for an evening discussion addressing the emergence of extremism and the impact of woke/DEI radicalism on democracy in Canada.\nOfficial launch of TECAH – The Emergency Coalition Against Hate. Bringing together different ethnic and religious communities to fight back against HATE.\nPortion of sales going to victims of terror – OneFamily Fund \nRegister For EventRegister For Event
URL:https://onefamilyfund.ca/event/tafsik-organization-presents-douglas-murray/
LOCATION:Toronto\, GTA\, Toronto\, Canada
ATTACH;FMTTYPE=image/jpeg:https://onefamilyfund.ca/wp-content/uploads/2024/01/Feb28-2024-DouglasMurray-2.jpg
ORGANIZER;CN="TAFSIK Organization":MAILTO:info@tafsik.com
END:VEVENT
END:VCALENDAR