BEGIN:VCALENDAR
VERSION:2.0
PRODID:-//One Family Fund - ECPv6.15.9//NONSGML v1.0//EN
CALSCALE:GREGORIAN
METHOD:PUBLISH
X-WR-CALNAME:One Family Fund
X-ORIGINAL-URL:https://onefamilyfund.ca
X-WR-CALDESC:Events for One Family Fund
REFRESH-INTERVAL;VALUE=DURATION:PT1H
X-Robots-Tag:noindex
X-PUBLISHED-TTL:PT1H
BEGIN:VTIMEZONE
TZID:America/Toronto
BEGIN:DAYLIGHT
TZOFFSETFROM:-0500
TZOFFSETTO:-0400
TZNAME:EDT
DTSTART:20240310T070000
END:DAYLIGHT
BEGIN:STANDARD
TZOFFSETFROM:-0400
TZOFFSETTO:-0500
TZNAME:EST
DTSTART:20241103T060000
END:STANDARD
BEGIN:DAYLIGHT
TZOFFSETFROM:-0500
TZOFFSETTO:-0400
TZNAME:EDT
DTSTART:20250309T070000
END:DAYLIGHT
BEGIN:STANDARD
TZOFFSETFROM:-0400
TZOFFSETTO:-0500
TZNAME:EST
DTSTART:20251102T060000
END:STANDARD
BEGIN:DAYLIGHT
TZOFFSETFROM:-0500
TZOFFSETTO:-0400
TZNAME:EDT
DTSTART:20260308T070000
END:DAYLIGHT
BEGIN:STANDARD
TZOFFSETFROM:-0400
TZOFFSETTO:-0500
TZNAME:EST
DTSTART:20261101T060000
END:STANDARD
BEGIN:DAYLIGHT
TZOFFSETFROM:-0500
TZOFFSETTO:-0400
TZNAME:EDT
DTSTART:20270314T070000
END:DAYLIGHT
BEGIN:STANDARD
TZOFFSETFROM:-0400
TZOFFSETTO:-0500
TZNAME:EST
DTSTART:20271107T060000
END:STANDARD
END:VTIMEZONE
BEGIN:VEVENT
DTSTART;TZID=America/Toronto:20250225T190000
DTEND;TZID=America/Toronto:20250225T190000
DTSTAMP:20260421T161258
CREATED:20250123T134215Z
LAST-MODIFIED:20260123T125432Z
UID:14752-1740510000-1740510000@onefamilyfund.ca
SUMMARY:Israel on Edge: UPDATE in Toronto by Michael Bauer
DESCRIPTION:Israel on Edge: UPDATE in Toronto by Michael Bauer – Feb. 25\, 2025It’s impossible to keep up with the heart-stopping developments and news out of Israel\, between realities changing at light speed and rampant misinformation. \nOneFamily’s Hike Guide and lecturer Michael Bauer is coming to Toronto to share up-to-the-minute perspectives from the ground\, about the hostage release\, the war(s)\, border security news and all matters of the day\, with OneFamily guests. \nMichael travels the world teaching Middle East history and current events when he is not guiding visitors in Israel. Michael mentored and taught the late October 7th hostage Hersh Goldberg-Polin. \nPlease join OneFamily in Toronto on February 25 at 7:00PM at Adath Israel Synagogue\, as Michael Bauer will share the facts and realities on the ground. \nRegister For EventRegister For Event
URL:https://onefamilyfund.ca/event/israel-on-edge-update-in-toronto-by-michael-bauer/
LOCATION:Adath Israel Congregation\, 37 Southbourne Avenue\, North York\, Ontario\, M3H 1A4\, Canada
ATTACH;FMTTYPE=image/jpeg:https://onefamilyfund.ca/wp-content/uploads/2025/01/isr-on-edge-sm.jpg
ORGANIZER;CN="Marnie Mandel":MAILTO:marnie@onefamilyfund.ca
END:VEVENT
BEGIN:VEVENT
DTSTART;TZID=America/Toronto:20260224T190000
DTEND;TZID=America/Toronto:20260224T190000
DTSTAMP:20260421T161258
CREATED:20260123T125423Z
LAST-MODIFIED:20260303T164459Z
UID:15107-1771959600-1771959600@onefamilyfund.ca
SUMMARY:Shifting Power in the Middle East: Iran\, Syria\, Gaza\, and the future of the region with Michael Bauer
DESCRIPTION:Shifting Power in the Middle East: Iran\, Syria\, Gaza\, and the future of the region with Michael BauerPlease join us for OneFamily Canada’s annual geopolitical update with Michael Bauer Best-selling author Michael Bauer will share up-to-the moment realities as the axis of power shifts in the Middle East and Israel continues to face critical choices. \nThe Israel-Gaza war may have faded from headlines\, but the reality on the ground tells a far more complex story. Gaza remains unstable\, Israel’s northern border is tense\, and regional powers continue to reposition for what comes next. \nFor sponsorship opportunities\, please contact Marnie Mandel at (647) 990-5858. \nRegister For EventRegister For Event
URL:https://onefamilyfund.ca/event/shifting-power-in-the-middle-east-iran-syria-gaza-and-the-future-of-the-region-with-michael-bauer/
LOCATION:Beth Sholom Synagogue\, 1445 Eglinton Ave W\, Toronto\, Ontario\, M6C 2E6\, Canada
ATTACH;FMTTYPE=image/jpeg:https://onefamilyfund.ca/wp-content/uploads/2026/01/MB-Event-Banner-sm.jpg
ORGANIZER;CN="Marnie Mandel":MAILTO:marnie@onefamilyfund.ca
END:VEVENT
BEGIN:VEVENT
DTSTART;TZID=America/Toronto:20260305T200000
DTEND;TZID=America/Toronto:20260305T200000
DTSTAMP:20260421T161258
CREATED:20260303T164445Z
LAST-MODIFIED:20260303T164623Z
UID:15156-1772740800-1772740800@onefamilyfund.ca
SUMMARY:ULTRA PURIM MASQUERADE
DESCRIPTION:Ultra Purim Masquerade\nMarch 5\, 2026 @ 8:00pm Click Here to Buy TicketsClick Here to Buy Tickets
URL:https://onefamilyfund.ca/event/ultra-purim-masquerade/
LOCATION:Ultra Super Club\, 12 St Clair East\, Toronot\, ontario\, M4T 2T5\, Canada
ATTACH;FMTTYPE=image/jpeg:https://onefamilyfund.ca/wp-content/uploads/2026/03/offca-purim-2026-event-thum.jpg
END:VEVENT
END:VCALENDAR